BEGIN:VCALENDAR
VERSION:2.0
PRODID:-//Camera de Comerț și Industrie Brașov - ECPv6.15.14//NONSGML v1.0//EN
CALSCALE:GREGORIAN
METHOD:PUBLISH
X-WR-CALNAME:Camera de Comerț și Industrie Brașov
X-ORIGINAL-URL:https://ccibv.ro
X-WR-CALDESC:Evenimente pentru Camera de Comerț și Industrie Brașov
REFRESH-INTERVAL;VALUE=DURATION:PT1H
X-Robots-Tag:noindex
X-PUBLISHED-TTL:PT1H
BEGIN:VTIMEZONE
TZID:Europe/Bucharest
BEGIN:DAYLIGHT
TZOFFSETFROM:+0200
TZOFFSETTO:+0300
TZNAME:EEST
DTSTART:20200329T010000
END:DAYLIGHT
BEGIN:STANDARD
TZOFFSETFROM:+0300
TZOFFSETTO:+0200
TZNAME:EET
DTSTART:20201025T010000
END:STANDARD
BEGIN:DAYLIGHT
TZOFFSETFROM:+0200
TZOFFSETTO:+0300
TZNAME:EEST
DTSTART:20210328T010000
END:DAYLIGHT
BEGIN:STANDARD
TZOFFSETFROM:+0300
TZOFFSETTO:+0200
TZNAME:EET
DTSTART:20211031T010000
END:STANDARD
BEGIN:DAYLIGHT
TZOFFSETFROM:+0200
TZOFFSETTO:+0300
TZNAME:EEST
DTSTART:20220327T010000
END:DAYLIGHT
BEGIN:STANDARD
TZOFFSETFROM:+0300
TZOFFSETTO:+0200
TZNAME:EET
DTSTART:20221030T010000
END:STANDARD
END:VTIMEZONE
BEGIN:VEVENT
DTSTART;TZID=Europe/Bucharest:20211006T120000
DTEND;TZID=Europe/Bucharest:20211006T163000
DTSTAMP:20260422T131819
CREATED:20211017T165107Z
LAST-MODIFIED:20211206T103250Z
UID:10003801-1633521600-1633537800@ccibv.ro
SUMMARY:Conferința "POR 2021-2027: Oportunități de finanțare și pregătirea noilor cereri de finanțare!"
DESCRIPTION:Eveniment dedicat viitoarei perioade de finanțare\, organizat de  Agenția pentru Dezvoltare Regională Centru care va asigura managementul POR 2021-2027\, prin care se va continua procesul de dezvoltare regionala\, concretizat prin proiecte regionale în valoare totală de peste 3 miliarde euro\, din 2007 până în prezent\, în toate cele 6 județe din regiune. \nVersiunea finală a POR 2021-2027 este în plin proces de definitivare\, sens în care se dorește un program adaptat nevoilor locale de finanțare. Pentru a se atinge acest obiectiv\, este esențială implicarea și consultarea tuturor actorilor regionali interesați de accesarea fondurilor europene. În acest sens\, pentru a completa suita de consultări publice din mediul online\, se va avea un dialog direct cu grupurile țintă în cadrul unor evenimente desfășurate în fiecare județ din Regiunea Centru. \n 
URL:https://ccibv.ro/event/conferinta-por-2021-2027-oportunitati-de-finantare-si-pregatirea-noilor-cereri-de-finantare/
LOCATION:CATTIA Brasov\, Strada Institutului nr.35\, Brasov\, 500484\, Romania
ATTACH;FMTTYPE=image/jpeg:https://ccibv.ro/wp-content/uploads/2021/10/Foto1-ADR-C_POR-2021-2027-800x388-1.jpg
END:VEVENT
END:VCALENDAR