BEGIN:VCALENDAR
VERSION:2.0
PRODID:-//Camera de Comerț și Industrie Brașov - ECPv6.15.14//NONSGML v1.0//EN
CALSCALE:GREGORIAN
METHOD:PUBLISH
X-WR-CALNAME:Camera de Comerț și Industrie Brașov
X-ORIGINAL-URL:https://ccibv.ro
X-WR-CALDESC:Evenimente pentru Camera de Comerț și Industrie Brașov
REFRESH-INTERVAL;VALUE=DURATION:PT1H
X-Robots-Tag:noindex
X-PUBLISHED-TTL:PT1H
BEGIN:VTIMEZONE
TZID:Europe/Bucharest
BEGIN:DAYLIGHT
TZOFFSETFROM:+0200
TZOFFSETTO:+0300
TZNAME:EEST
DTSTART:20240331T010000
END:DAYLIGHT
BEGIN:STANDARD
TZOFFSETFROM:+0300
TZOFFSETTO:+0200
TZNAME:EET
DTSTART:20241027T010000
END:STANDARD
BEGIN:DAYLIGHT
TZOFFSETFROM:+0200
TZOFFSETTO:+0300
TZNAME:EEST
DTSTART:20250330T010000
END:DAYLIGHT
BEGIN:STANDARD
TZOFFSETFROM:+0300
TZOFFSETTO:+0200
TZNAME:EET
DTSTART:20251026T010000
END:STANDARD
BEGIN:DAYLIGHT
TZOFFSETFROM:+0200
TZOFFSETTO:+0300
TZNAME:EEST
DTSTART:20260329T010000
END:DAYLIGHT
BEGIN:STANDARD
TZOFFSETFROM:+0300
TZOFFSETTO:+0200
TZNAME:EET
DTSTART:20261025T010000
END:STANDARD
END:VTIMEZONE
BEGIN:VEVENT
DTSTART;TZID=Europe/Bucharest:20250921T080000
DTEND;TZID=Europe/Bucharest:20250929T220000
DTSTAMP:20260419T155232
CREATED:20250725T085158Z
LAST-MODIFIED:20250725T085158Z
UID:10005551-1758441600-1759183200@ccibv.ro
SUMMARY:Misiunea economică în Japonia
DESCRIPTION:Camera de Comerţ și Industrie Brașov împreună cu JETRO ROMÂNIA (Japan External Trade Organization) vă adresează invitația de a face parte din delegația oamenilor de afaceri ce vor participa la misiunea economică în Japonia\, în perioada 21-29 septembrie 2025\, dedicată valorificării potențialului de colaborare dintre România și Japonia\, în contextul Expoziției Mondiale care are loc la Osaka.\n\n\n\nEvenimentul vă oferă oportunitatea să vă extindeți activitatea pe piața niponă dar nu numai\, să explorați pavilioanele\, să participați la multiplele evenimente din cadrul expoziției\, să vă promovați compania\, să obțineți contacte de afaceri valoroase și\, nu în ultimul rând\, să aveți parte de o experiență unică.\nExpo Osaka are ca temă „ Designing Future Society for Our Lives”. Cele trei teme secundare ale expoziției „Saving Lives”\, „Empowering Lives” și „Connecting Lives” subliniază contribuția statelor la atingerea obiectivelor de dezvoltare sustenabilă. Se așteaptă participarea a peste 150 de țări și 25 de organizații internaționale\, precum și vizita a peste 28 de milioane de vizitatori.\nPavilionul României\, denumit „The Romanian Magic Box-Creativity and Interactivity” este construit sub deviza sustenabilității și reprezintă un model de dezvoltare bazată pe reciclare și reutilizare.\n\nDat fiind că înțelegerea culturii generează și mai multe oportunități de afaceri\, aceasta actiune isi propune: \n\nPromovarea județului Brașov și a regiunii Centru că destinație de afaceri și turistică pentru atragerea de investitori în domeniul producției industriale\, dezvoltării urbane și nu în ultimul rând în turism.\nIdentificarea de acțiuni concrete de cooperare pro-active pentru o dezvoltare durabilă: întâlniri cu reprezentanții Ministerului Economiei și Comerțului (în cadrul pavilionului Japoniei; cu cei ai Uniunii Guvernamentale Kansai și cu cei ai prefecturii și municipalității din Osaka.\nVizite și întâlniri B2B cu oficialități\, agenții guvernamentale și operatori economici interesați în proiecte de investiții si infrastructura.\nInternaționalizarea afacerilor și extinderea cooperării la nivelul țărilor din Europa Centrală și de Est și Japonia.\n\nCa și obiective ale misiunii economice sunt întâlnirile de afaceri cu reprezentanții administrațiilor locale din: \n\nOsaka: oraș-port cunoscut și sub numele de “Veneția Japoniei” sau “Manchester-ul Orientului”\, este situat în sudul insulei Honshu\, în golful Osaka\, pe malul răului Yodo. Osaka a fost capitală comercială a Japoniei și continuă să fie un puternic centru de afaceri. Pe timpul zilei\, populația orașului crește cu 2\,6 până la 3\,7 milioane de locuitori\, datorită numărului mare de navetiști care muncesc în oraș. Orașul este cunoscut pentru arhitectură modernă și industrie\, cu zgârie-nori și zone vaste de cumpărături\nTokyo: Capitală Japoniei\, “capitală răsăriteană” sau capitală “țării soarelui răsare” este\, de departe\, cea mai mare aglomerare urbană al Terrei. Cu cele 34 de milioane de locuitori\, megalopolisul Tokyo este considerat cel mai scump oraș al lumii pentru și\, totodată\, este clasat între primele trei orașe ale lumii că nivel de trai.\nKyoto: al 7-lea oraș că mărime din Japonia. Este supranumit și capitală liniștii și a păcii datorită sutelor de temple și a grădinilor. Fosta capitală a Japoniei între anii 794 și 1868\, este faimos pentru meșteșugurile cu fire de mătase\, bronz\, porțelan\, chimicale și echipament electronic. \n  \nInformații suplimentare AICI. \nRelații suplimentare privind procedura de înscriere: Luisa Palos / 0728137727 / luisa.palos@ccibv.ro;  Termen de inscriere 22.07.2025
URL:https://ccibv.ro/event/misiunea-economica-in-japonia/
LOCATION:JAPONIA
END:VEVENT
END:VCALENDAR