BEGIN:VCALENDAR
VERSION:2.0
PRODID:-//Camera de Comerț și Industrie Brașov - ECPv6.15.14//NONSGML v1.0//EN
CALSCALE:GREGORIAN
METHOD:PUBLISH
X-WR-CALNAME:Camera de Comerț și Industrie Brașov
X-ORIGINAL-URL:https://ccibv.ro
X-WR-CALDESC:Evenimente pentru Camera de Comerț și Industrie Brașov
REFRESH-INTERVAL;VALUE=DURATION:PT1H
X-Robots-Tag:noindex
X-PUBLISHED-TTL:PT1H
BEGIN:VTIMEZONE
TZID:Europe/Bucharest
BEGIN:DAYLIGHT
TZOFFSETFROM:+0200
TZOFFSETTO:+0300
TZNAME:EEST
DTSTART:20240331T010000
END:DAYLIGHT
BEGIN:STANDARD
TZOFFSETFROM:+0300
TZOFFSETTO:+0200
TZNAME:EET
DTSTART:20241027T010000
END:STANDARD
BEGIN:DAYLIGHT
TZOFFSETFROM:+0200
TZOFFSETTO:+0300
TZNAME:EEST
DTSTART:20250330T010000
END:DAYLIGHT
BEGIN:STANDARD
TZOFFSETFROM:+0300
TZOFFSETTO:+0200
TZNAME:EET
DTSTART:20251026T010000
END:STANDARD
BEGIN:DAYLIGHT
TZOFFSETFROM:+0200
TZOFFSETTO:+0300
TZNAME:EEST
DTSTART:20260329T010000
END:DAYLIGHT
BEGIN:STANDARD
TZOFFSETFROM:+0300
TZOFFSETTO:+0200
TZNAME:EET
DTSTART:20261025T010000
END:STANDARD
END:VTIMEZONE
BEGIN:VEVENT
DTSTART;TZID=Europe/Bucharest:20250521T080000
DTEND;TZID=Europe/Bucharest:20250601T153000
DTSTAMP:20260422T144027
CREATED:20250228T064910Z
LAST-MODIFIED:20250407T084904Z
UID:10005544-1747814400-1748791800@ccibv.ro
SUMMARY:Misiune Economică China 2025
DESCRIPTION:Camera de Comerț și Industrie Brașov\, în baza protocolului semnat cu China Council for the Promotion of International Trade Zhejiang Province și la invitația Ningbo Liaison Office\, organizează o misiune economică în cadrul China-CEEC Expo & International Consumer Goods Fair – un eveniment dedicat țărilor din Europa Centrală și de Est\, care va avea loc la Ningbo\, China.\nMisiune economică – Oportunități pentru afacerea dumneavoastră\nÎn cadrul acestei misiuni\, veți avea ocazia să explorați noi oportunități de afaceri\, să învățați despre inovațiile din diverse industrii și să participați la un forum important despre conservarea patrimoniului cultural\, dezvoltarea turistică sustenabilă\, schimburi culturale și proiecte de cooperare internațională.\nPerioada misiunii: 20 mai – 27 mai 2025\nLocații: Ningbo și Shanghai\nDespre expoziție\nExpoziția se va desfășura la Centrul Internațional de Conferințe și Expoziții din Ningbo\, pe o suprafață de 80.000 m.p. și va include secțiuni dedicate produsele de consum\, tehnologiilor smart\, soluțiilor verzi și multe altele. Veți avea ocazia să explorați oportunități de export și investiții\, să învățați despre inovațiile din tehnologie și industrie\, să participați la întâlniri de afaceri și să explorați proiecte de cooperare internațională.\nBeneficii pentru participanți\n• Acces la o gamă largă de produse de consum (alimente\, băuturi\, cosmetice\, electronice\, etc.)\n• Inovații tehnologice în domenii ca inteligența artificială\, mobilitatea inteligentă\, sănătatea digitală și tehnologii sustenabile\n• Oportunități de investiții și dezvoltare a parteneriatelor strategice\n• Promovare turistică și culturală pentru regiunile din Europa Centrală și de Est\nObiectivele misiunii economice\nParticiparea la misiune include întâlniri cu membrii Camerelor de Comerț din China și oportunități de a explora piețele din Ningbo (unul din cele mai mari porturi din China) și Shanghai (cel mai dezvoltat oraș din China). Veți avea ocazia să încheiați parteneriate durabile pentru afacerea dumneavoastră.\nProgramul deplasării și costuri:\nCostul total al deplasării este de 2682 euro+TVA și include:\n• Zbor București – Shanghai și retur\n• Transfer Shanghai – Ningbo și retur\n• 3 nopți cazare la hotel 4* cu mic dejun în Ningbo\n• 3 nopți cazare la hotel 4* cu mic dejun în Shanghai\n• Transfer și vizită târg în perioada 21-23.05.2025\n• Întâlniri personalizate în funcție de interesul dvs. la CCI din Ningbo și Sghanghai\n• Vizite tematice la companii în funcție de interesul dvs. în zona Ningbo / Huangzhou și Shanghai;\n• Insoțitor de grup vorbitor de română și engleză;\nOpțional: Turul orașului Hangzhou.\n\n\n\n\n\n\n\n\n\n\nLocurile pentru această misiune economică sunt limitate! Dacă această oportunitate corespunde obiectivelor dvs. de dezvoltare și promovare internațională\, vă invităm să confirmați participarea până la 09 aprilie 2025 completând formularul de înscriere: AICI.
URL:https://ccibv.ro/event/misiune-economica-china-2025/
LOCATION:Ningbo\, China\, China
END:VEVENT
END:VCALENDAR