BEGIN:VCALENDAR
VERSION:2.0
PRODID:-//Camera de Comerț și Industrie Brașov - ECPv6.15.14//NONSGML v1.0//EN
CALSCALE:GREGORIAN
METHOD:PUBLISH
X-ORIGINAL-URL:https://ccibv.ro
X-WR-CALDESC:Evenimente pentru Camera de Comerț și Industrie Brașov
REFRESH-INTERVAL;VALUE=DURATION:PT1H
X-Robots-Tag:noindex
X-PUBLISHED-TTL:PT1H
BEGIN:VTIMEZONE
TZID:Europe/Bucharest
BEGIN:DAYLIGHT
TZOFFSETFROM:+0200
TZOFFSETTO:+0300
TZNAME:EEST
DTSTART:20200329T010000
END:DAYLIGHT
BEGIN:STANDARD
TZOFFSETFROM:+0300
TZOFFSETTO:+0200
TZNAME:EET
DTSTART:20201025T010000
END:STANDARD
BEGIN:DAYLIGHT
TZOFFSETFROM:+0200
TZOFFSETTO:+0300
TZNAME:EEST
DTSTART:20210328T010000
END:DAYLIGHT
BEGIN:STANDARD
TZOFFSETFROM:+0300
TZOFFSETTO:+0200
TZNAME:EET
DTSTART:20211031T010000
END:STANDARD
BEGIN:DAYLIGHT
TZOFFSETFROM:+0200
TZOFFSETTO:+0300
TZNAME:EEST
DTSTART:20220327T010000
END:DAYLIGHT
BEGIN:STANDARD
TZOFFSETFROM:+0300
TZOFFSETTO:+0200
TZNAME:EET
DTSTART:20221030T010000
END:STANDARD
BEGIN:DAYLIGHT
TZOFFSETFROM:+0200
TZOFFSETTO:+0300
TZNAME:EEST
DTSTART:20230326T010000
END:DAYLIGHT
BEGIN:STANDARD
TZOFFSETFROM:+0300
TZOFFSETTO:+0200
TZNAME:EET
DTSTART:20231029T010000
END:STANDARD
END:VTIMEZONE
BEGIN:VEVENT
DTSTART;VALUE=DATE:20220210
DTEND;VALUE=DATE:20220212
DTSTAMP:20260419T155326
CREATED:20220118T113256Z
LAST-MODIFIED:20220118T113256Z
UID:10003809-1644451200-1644623999@ccibv.ro
SUMMARY:Curs online  |  Agile Transformation - Cum să lucrezi cu proiecte agile?
DESCRIPTION:[vc_row heading_color=”primary-2″ font_color=”#3a3a3a”][vc_column][vc_column_text animation=”grve-fade-in-up”] \nNe bucurăm să vă anunțăm că în perioada 10.02.2022 – 11.02.2022 organizăm împreună cu Trainsilvania Regional Learning\, cursul online Agile Transformation – Cum să lucrezi cu proiecte agile?\n  \nModul de lucru se schimbă din ce in ce mai rapid iar proiectele devin standardul de lucru în orice companie de succes. În același timp\, la nivel global\, 50% din proiecte eșuează\, multe din cauza folosirii unor metode neadaptate contextului actual.\n  \nMotivați de misiunea noastră de a sprijini comunitatea oamenilor de afaceri brașoveni și de a contribui la procesul de dezvoltare al companiilor brașovene  vă invităm să participați  la cursul Agile Transformation – Cum să lucrezi cu proiecte agile? susținut de Dan Brumă\, trainer cu experiența în antreprenoriat și multiple industrii la nivel național și internațional\, joi\, 10 Februarie 2022 și vineri\, 11 Februarie 2022.\n  \nÎn cadrul cursului online Agile Transformation – Cum să lucrezi cu proiecte agile?\nveți învăța să:\n  \nFaceți transferul de la proiectele clasice la sistemul agile\n\nDezvoltați un mod de gândire concentrat pe experiența clientului\nImplicați activ clienții pentru a asigura succesul proiectelor\nEficientizați modul în care echipa colaborează pentru rezultatul final\nScurtați clclul de dezvoltare al noilor produse\n\n\n\nDespre TrainSilvania Regional Learning Initiative – www.trainsilvania.ro: \n\nSunt un grup de profesioniști în învățare\, pasionați de Transilvania\, de dezvoltarea oamenilor și companiilor din zonă.\nScopul lor este de a servi organizațiile locale și potențialul lor de afaceri\, accesând local cele mai bune resurse de învățare – programe\, traineri\, consultanți.\n\n  \nCine susține cursul ?\nDan Brumă | Consultant Senior cu o experiență de peste 12 ani în facilitare la nivel international – are o bogată experiență în dezvoltarea afacerilor și in managementul echipelor într-o serie de industrii\, cum ar fi Telecom\, IT & C și Automotive. Este unul dintre puținii formatori români cu experiență în livrare în peste 10 țări din Europa\, Asia și America.\n \nDetalii Curs Agile Transformation – Cum să lucrezi cu proiecte agile? \n\nDurată: 2 zile –  10 Februarie 2022 și 11 Februarie 2022\, de la ora  09:00 la ora 15:00\nPreț: 600 Lei + TVA\n\n\n\nNotă: Participanții vor primi o diplomă eliberată de TrainSilvania Regional Learning\, care atestă participarea la cursul Agile Transformation.\n  \n\nÎnscrierile se fac prin completarea formularului de confirmare click  – AICI sau pe e-mail la adresa: cristina.sirbu@ccibv.ro\nCursul se va desfășura online pe platforma de Zoom.\nDeoarece locurile sunt limitate\, vă rugăm să ne confirmați prezența dumneavoastră până Luni\, 9 Februarie 2022\n\n\n\nPentru orice alte informații suplimentare suntem la dispoziția dumneavoastră!\n  \nPersoană de contact: Cristina Sîrbu – 0729 839 860\n  \n\nCu considerație\,\nDaniela Giol\nDirector Departament Formare Profesională și Învățământ Dual\n[/vc_column_text][/vc_column][/vc_row]
URL:https://ccibv.ro/event/curs-online-agile-transformation-cum-sa-lucrezi-cu-proiecte-agile/
LOCATION:ONLINE
CATEGORIES:Curs
ATTACH;FMTTYPE=image/jpeg:https://ccibv.ro/wp-content/uploads/2022/01/AGILE-TR-e1643018909316.jpg
END:VEVENT
BEGIN:VEVENT
DTSTART;TZID=Europe/Bucharest:20211213T100000
DTEND;TZID=Europe/Bucharest:20211223T200000
DTSTAMP:20260419T155326
CREATED:20211206T090047Z
LAST-MODIFIED:20211206T092831Z
UID:10003804-1639389600-1640289600@ccibv.ro
SUMMARY:Întâlniri virtuale B2B în domeniul POWER & ENERGY
DESCRIPTION:În perioada 13 – 23 Decembrie 2021 se va desfășura evenimentul ”Virtual B2B Meetings in the Power & Energy Domain” organizat de Indian Electrical & Electronics Manufacturers’ Association (IEEMA)irtual Business. \n\n\n 
URL:https://ccibv.ro/event/seminar-online-ziua-industriei-si-a-comertului-pentru-regiunea-europei-centrale/
LOCATION:ONLINE
CATEGORIES:Eveniment
ATTACH;FMTTYPE=image/jpeg:https://ccibv.ro/wp-content/uploads/2021/11/banner-connect-b2b.jpg
END:VEVENT
BEGIN:VEVENT
DTSTART;VALUE=DATE:20211124
DTEND;VALUE=DATE:20211127
DTSTAMP:20260419T155326
CREATED:20211112T121030Z
LAST-MODIFIED:20211112T141754Z
UID:10003803-1637712000-1637971199@ccibv.ro
SUMMARY:Republica Moldova – Parteneriate pentru export 2021 Event online
DESCRIPTION:[vc_row][vc_column][vc_column_text] \n\n\n\n\n\nVă informăm despre oportunitatea participării\, online\, la întrevederile bilaterale  cu producătorii din Republica Moldova! Eveniment GRATUIT.\n\n\n24-26 noiembrie 2021\n\n\n\n\n\n\n\n\n\n\n\n\n\n\n\n\nSunt așteptați producători de pe ambele maluri ale Nistrului\, reprezentanți ai rețelelor comerciale din străinătate\, importatări\, distribuitori\, agenți de vînzări\, etc. \n\n\n\n\n\n\n\n\n[/vc_column_text][/vc_column][/vc_row][vc_row][vc_column][vc_column_text] \n\nÎnregistrați-vă acum\, accesând https://partnership-for-exports.b2match.io/ \, pentru a avea șansa să:\n\n\n\n\n\n\n\n● Identificați noi parteneri de afaceri de pe piața locală și cea europeană\n● Stabiliți sesiuni individuale B2B pentru a dezvolta parteneriate de afaceri\n● Promovați compania și produsele Dvs. pe piața externă\n● Descoperiți produse și servicii noi\n● Faceți cunoștință cu furnizori noi\n\n\n\n\n\n[/vc_column_text][/vc_column][/vc_row]
URL:https://ccibv.ro/event/22268/
LOCATION:ONLINE
ATTACH;FMTTYPE=image/png:https://ccibv.ro/wp-content/uploads/2021/11/b2b.png
ORGANIZER;CN="Programul Na%C8%9Biunilor Unite pentru Dezvoltare (PNUD)":MAILTO:inga.leontean@chamber.md
END:VEVENT
END:VCALENDAR