BEGIN:VCALENDAR
VERSION:2.0
PRODID:-//Camera de Comerț și Industrie Brașov - ECPv6.15.20//NONSGML v1.0//EN
CALSCALE:GREGORIAN
METHOD:PUBLISH
X-ORIGINAL-URL:https://ccibv.ro
X-WR-CALDESC:Evenimente pentru Camera de Comerț și Industrie Brașov
REFRESH-INTERVAL;VALUE=DURATION:PT1H
X-Robots-Tag:noindex
X-PUBLISHED-TTL:PT1H
BEGIN:VTIMEZONE
TZID:Europe/Bucharest
BEGIN:DAYLIGHT
TZOFFSETFROM:+0200
TZOFFSETTO:+0300
TZNAME:EEST
DTSTART:20240331T010000
END:DAYLIGHT
BEGIN:STANDARD
TZOFFSETFROM:+0300
TZOFFSETTO:+0200
TZNAME:EET
DTSTART:20241027T010000
END:STANDARD
BEGIN:DAYLIGHT
TZOFFSETFROM:+0200
TZOFFSETTO:+0300
TZNAME:EEST
DTSTART:20250330T010000
END:DAYLIGHT
BEGIN:STANDARD
TZOFFSETFROM:+0300
TZOFFSETTO:+0200
TZNAME:EET
DTSTART:20251026T010000
END:STANDARD
BEGIN:DAYLIGHT
TZOFFSETFROM:+0200
TZOFFSETTO:+0300
TZNAME:EEST
DTSTART:20260329T010000
END:DAYLIGHT
BEGIN:STANDARD
TZOFFSETFROM:+0300
TZOFFSETTO:+0200
TZNAME:EET
DTSTART:20261025T010000
END:STANDARD
END:VTIMEZONE
BEGIN:VEVENT
DTSTART;TZID=Europe/Bucharest:20250930T113000
DTEND;TZID=Europe/Bucharest:20250930T133000
DTSTAMP:20260423T144045
CREATED:20250904T095813Z
LAST-MODIFIED:20250904T132335Z
UID:10005555-1759231800-1759239000@ccibv.ro
SUMMARY:Forumul de afaceri România-Emiratele Arabe Unite
DESCRIPTION:Camera de Comerț și Industrie Brașov are onoarea de a vă invita să participați la o întâlnire de lucru de excepție\, „FORUMUL DE AFACERI ROMÂNIA-EMIRATELE ARABE UNITE”. Evenimentul va avea loc marti\, 30 septembrie 2025\, la ora 11:30\, la sediul Camerei de Comerț și Industrie Brașov.\nAcest forum este organizat în parteneriat cu Ambasada Emiratelor Arabe Unite în România și îl va avea ca invitat special pe E.S. Hamdan Khalifa Almarar\, Responsabilul Șef al Afacerilor Externe al Ambasadei Emiratelor Unite în România. Vor fi prezenți\, de asemenea\, reprezentanți ai Departamentului Economic din cadrul Ambasadei\, ai companiei Al Safar UAE\, precum și alți parteneri emiratezi. \nScopul principal este de a consolida relațiile economice bilaterale și de a facilita un dialog direct între companiile brașovene și partenerii din Emiratele Arabe Unite\, având ca obiectiv atragerea de investiții și inițierea de proiecte de colaborare reciproc avantajoase. \nPentru a asigura o întâlnire proactivă și a facilita stabilirea de contacte individuale\, vă rugăm să confirmați participarea dumneavoastră până la data de 26 septembrie 2025. \nInformații suplimentare  și înscriere:  AICI.
URL:https://ccibv.ro/event/forumul-de-afaceri-romania-emiratele-arabe-unite/
LOCATION:Camera de Comerț și Industrie Brașov\, Str. Mihail Kogalniceanu nr. 18-20\, Brasov\, Brasov\, 500173\, Romania
GEO:45.65139;25.608418
X-APPLE-STRUCTURED-LOCATION;VALUE=URI;X-ADDRESS=Camera de Comerț și Industrie Brașov Str. Mihail Kogalniceanu nr. 18-20 Brasov Brasov 500173 Romania;X-APPLE-RADIUS=500;X-TITLE=Str. Mihail Kogalniceanu nr. 18-20:geo:25.608418,45.65139
END:VEVENT
END:VCALENDAR