BEGIN:VCALENDAR
VERSION:2.0
PRODID:-//Camera de Comerț și Industrie Brașov - ECPv6.15.14//NONSGML v1.0//EN
CALSCALE:GREGORIAN
METHOD:PUBLISH
X-WR-CALNAME:Camera de Comerț și Industrie Brașov
X-ORIGINAL-URL:https://ccibv.ro
X-WR-CALDESC:Evenimente pentru Camera de Comerț și Industrie Brașov
REFRESH-INTERVAL;VALUE=DURATION:PT1H
X-Robots-Tag:noindex
X-PUBLISHED-TTL:PT1H
BEGIN:VTIMEZONE
TZID:Europe/Bucharest
BEGIN:DAYLIGHT
TZOFFSETFROM:+0200
TZOFFSETTO:+0300
TZNAME:EEST
DTSTART:20240331T010000
END:DAYLIGHT
BEGIN:STANDARD
TZOFFSETFROM:+0300
TZOFFSETTO:+0200
TZNAME:EET
DTSTART:20241027T010000
END:STANDARD
BEGIN:DAYLIGHT
TZOFFSETFROM:+0200
TZOFFSETTO:+0300
TZNAME:EEST
DTSTART:20250330T010000
END:DAYLIGHT
BEGIN:STANDARD
TZOFFSETFROM:+0300
TZOFFSETTO:+0200
TZNAME:EET
DTSTART:20251026T010000
END:STANDARD
BEGIN:DAYLIGHT
TZOFFSETFROM:+0200
TZOFFSETTO:+0300
TZNAME:EEST
DTSTART:20260329T010000
END:DAYLIGHT
BEGIN:STANDARD
TZOFFSETFROM:+0300
TZOFFSETTO:+0200
TZNAME:EET
DTSTART:20261025T010000
END:STANDARD
END:VTIMEZONE
BEGIN:VEVENT
DTSTART;TZID=Europe/Bucharest:20250603T133000
DTEND;TZID=Europe/Bucharest:20250603T153000
DTSTAMP:20260422T150256
CREATED:20250528T125805Z
LAST-MODIFIED:20250602T055101Z
UID:10005549-1748957400-1748964600@ccibv.ro
SUMMARY:Eveniment privind Valorificarea Potențialului Afacerii Tale: Angajarea Persoanelor cu Dizabilități
DESCRIPTION:Marți\, 3 iunie 2025\, ora 13\,30\, Camera de Comerț și Industrie Brașov \, în calitate de susținător\, vă invită să participați la evenimentul privind Valorificarea Potențialului Afacerii Tale: Angajarea Persoanelor cu Dizabilități\, organizat de Sorin Alexandru Para – Activist pentru drepturile persoanelor cu dizabilități si Președinte Asociația „Lângă Oameni Mereu” și Ioana-Andreea GRIGORE – Presedinte Asociatia Profesionala a Terapeutilor Ocupationali din Romania (APTOR): Incluziune prin Drepturi: Muncă\, Demnitate\, Oportunitate \nÎntr-o societate modernă și responsabilă\, succesul unei afaceri nu se măsoară doar prin cifrele de la finalul lunii\, ci și prin impactul pe care îl are asupra comunității. O componentă esențială a acestui impact este capacitatea de a crea un mediu de lucru incluziv\, în care fiecare persoană – indiferent de abilitățile sau limitările sale – are șansa de a contribui\, de a se dezvolta și de a fi respectată. \nAngajarea persoanelor cu dizabilități nu este doar o obligație morală sau legală. Este o oportunitate de a valorifica talente neexplorate\, de a îmbogăți echipa cu perspective diferite și de a construi o cultură organizațională bazată pe empatie\, diversitate și inovație. Persoanele cu dizabilități aduc adesea un nivel ridicat de loialitate\, perseverență și adaptabilitate – calități valoroase în orice domeniu. \nPrin muncă\, o persoană își dobândește independența\, își afirmă identitatea și contribuie activ la societate. Prin demnitate\, recunoaștem faptul că fiecare om merită respect\, șanse egale și un loc în comunitate. Prin oportunitate\, deschidem uși spre un viitor în care diferențele nu ne separă\, ci ne completează. \nFiecare loc de muncă adaptat\, fiecare inițiativă de integrare\, fiecare pas spre accesibilitate reprezintă o investiție în viitorul unei societăți echitabile. Angajatorii care aleg să sprijine incluziunea devin nu doar promotori ai drepturilor omului\, ci și lideri ai schimbării pozitive. \nSă transformăm angajarea persoanelor cu dizabilități din excepție în normalitate.\nSă construim afaceri care cresc odată cu oamenii lor.\nSă alegem incluziunea ca parte din ADN-ul fiecărei organizații. Află mai multe AICI. \nPentru că acolo unde este loc pentru diversitate\, există loc pentru progres! \nÎNSCRIERE AICI.
URL:https://ccibv.ro/event/eveniment-privind-valorificarea-potentialului-afacerii-tale-angajarea-persoanelor-cu-dizabilitati/
LOCATION:Camera de Comerț și Industrie Brașov\, Str. Mihail Kogalniceanu nr. 18-20\, Brasov\, Brasov\, 500173\, Romania
GEO:45.65139;25.608418
X-APPLE-STRUCTURED-LOCATION;VALUE=URI;X-ADDRESS=Camera de Comerț și Industrie Brașov Str. Mihail Kogalniceanu nr. 18-20 Brasov Brasov 500173 Romania;X-APPLE-RADIUS=500;X-TITLE=Str. Mihail Kogalniceanu nr. 18-20:geo:25.608418,45.65139
END:VEVENT
END:VCALENDAR